BEGIN:VCALENDAR
VERSION:2.0
PRODID:-//LIBRAIRES DU SUD - ECPv5.16.4//NONSGML v1.0//EN
CALSCALE:GREGORIAN
METHOD:PUBLISH
X-WR-CALNAME:LIBRAIRES DU SUD
X-ORIGINAL-URL:https://www.librairesdusud.com
X-WR-CALDESC:Évènements pour LIBRAIRES DU SUD
BEGIN:VTIMEZONE
TZID:Europe/Paris
BEGIN:DAYLIGHT
TZOFFSETFROM:+0100
TZOFFSETTO:+0200
TZNAME:CEST
DTSTART:20260329T010000
END:DAYLIGHT
BEGIN:STANDARD
TZOFFSETFROM:+0200
TZOFFSETTO:+0100
TZNAME:CET
DTSTART:20261025T010000
END:STANDARD
END:VTIMEZONE
BEGIN:VEVENT
DTSTART;TZID=Europe/Paris:20260304T080000
DTEND;TZID=Europe/Paris:20260318T170000
DTSTAMP:20260419T154800
CREATED:20260304T104107Z
LAST-MODIFIED:20260304T104107Z
UID:17085-1772611200-1773853200@www.librairesdusud.com
SUMMARY:"Après le chagrin\, la rage" - exposition
DESCRIPTION:Faisant suite à la rencontre autour du livre « Marseille\, ce qu’il reste de la colère »\, une exposition se tiendra dans la petite salle des encontres. Des photos issues du livre sur le scandale des immeubles insalubres qui a embrasé la ville de Marseille. Une manière inédite de se confronter aux problématiques soulevées par les politiques publiques de logement et d’urbanisme en France.
URL:https://www.librairesdusud.com/rencontre/apres-le-chagrin-la-rage-exposition/
LOCATION:Librairie Maupetit\, 142 La Canebière\, Marseille\, Provence-Alpes-Côte d'Azur\, 13001\, France
CATEGORIES:Dans les Librairies,Librairie Maupetit
ATTACH;FMTTYPE=image/jpeg:https://www.librairesdusud.com/wp-content/uploads/2026/03/190442_Bazin3-scaled-e1772620718519.jpg
END:VEVENT
END:VCALENDAR