BEGIN:VCALENDAR
VERSION:2.0
PRODID:-//LIBRAIRES DU SUD - ECPv5.16.4//NONSGML v1.0//EN
CALSCALE:GREGORIAN
METHOD:PUBLISH
X-WR-CALNAME:LIBRAIRES DU SUD
X-ORIGINAL-URL:https://www.librairesdusud.com
X-WR-CALDESC:Évènements pour LIBRAIRES DU SUD
BEGIN:VTIMEZONE
TZID:Europe/Paris
BEGIN:DAYLIGHT
TZOFFSETFROM:+0100
TZOFFSETTO:+0200
TZNAME:CEST
DTSTART:20220327T010000
END:DAYLIGHT
BEGIN:STANDARD
TZOFFSETFROM:+0200
TZOFFSETTO:+0100
TZNAME:CET
DTSTART:20221030T010000
END:STANDARD
END:VTIMEZONE
BEGIN:VEVENT
DTSTART;TZID=Europe/Paris:20220128T193000
DTEND;TZID=Europe/Paris:20220128T220000
DTSTAMP:20260419T105708
CREATED:20220121T095533Z
LAST-MODIFIED:20220121T095610Z
UID:10105-1643398200-1643407200@www.librairesdusud.com
SUMMARY:Avis aux noctambules !
DESCRIPTION:Le thème des Nuits de la Lecture 2022 nous a inspirées à nouveau : « Aimons toujours ! Aimons encore ! » \nComme l’année dernière\, nous avons fait appel à des voix inspirées et inspirantes : \nnous avons donné rendez-vous\, au Lézard Amoureux\, aux Passeurs de Mots de Robion\, accompagnés de Leila Azmayesh. \nIls nous liront des textes de René de Obaldia et d’Henri Gougaud\, nous captiveront avec des poèmes de René Char et de Thomas Vinau\, nous emmèneront au Burkina Faso avec une légende traditionnelle et combien d’autres découvertes encore… \nPoussez la porte de la librairie vendredi 28 janvier à 19h30 et laissez-vous en conter ! \nL’équipe du Lézard
URL:https://www.librairesdusud.com/rencontre/avis-aux-noctambules/
LOCATION:LIbrairie Le Lézard amoureux\, 28 boulevard Emile Zola\, Cavaillon\, 84300
CATEGORIES:Dans les Librairies,Librairie Le Lézard amoureux
ATTACH;FMTTYPE=image/jpeg:https://www.librairesdusud.com/wp-content/uploads/2022/01/nuit-lecture.jpg
END:VEVENT
END:VCALENDAR