BEGIN:VCALENDAR
VERSION:2.0
PRODID:-//LIBRAIRES DU SUD - ECPv5.16.4//NONSGML v1.0//EN
CALSCALE:GREGORIAN
METHOD:PUBLISH
X-WR-CALNAME:LIBRAIRES DU SUD
X-ORIGINAL-URL:https://www.librairesdusud.com
X-WR-CALDESC:Évènements pour LIBRAIRES DU SUD
BEGIN:VTIMEZONE
TZID:Europe/Paris
BEGIN:DAYLIGHT
TZOFFSETFROM:+0100
TZOFFSETTO:+0200
TZNAME:CEST
DTSTART:20200329T010000
END:DAYLIGHT
BEGIN:STANDARD
TZOFFSETFROM:+0200
TZOFFSETTO:+0100
TZNAME:CET
DTSTART:20201025T010000
END:STANDARD
END:VTIMEZONE
BEGIN:VEVENT
DTSTART;TZID=Europe/Paris:20200119T160000
DTEND;TZID=Europe/Paris:20200119T190000
DTSTAMP:20260419T154127
CREATED:20191213T141709Z
LAST-MODIFIED:20191213T141709Z
UID:7480-1579449600-1579460400@www.librairesdusud.com
SUMMARY:Bienvenue à la 4ème Nuit de la lecture sur le thème du « Partage »
DESCRIPTION:Histoires et chocolat chaud pour enfants à 16h\, échanges autour de la lecture pour ados à 17h\, lectures par et pour les adultes à 19h00 avec buffet participatif (venez avec un salé ou un sucré\, boissons offertes).  Animation et ambiance musicale assurée par BLEUET CIE.
URL:https://www.librairesdusud.com/rencontre/bienvenue-a-la-4eme-nuit-de-la-lecture-sur-le-theme-du-partage/
CATEGORIES:Dans les Librairies,Librairie Le Bleuet
ATTACH;FMTTYPE=image/jpeg:https://www.librairesdusud.com/wp-content/uploads/2019/12/nuitlecture.jpg
END:VEVENT
END:VCALENDAR