BEGIN:VCALENDAR
VERSION:2.0
PRODID:-//LIBRAIRES DU SUD - ECPv5.16.4//NONSGML v1.0//EN
CALSCALE:GREGORIAN
METHOD:PUBLISH
X-WR-CALNAME:LIBRAIRES DU SUD
X-ORIGINAL-URL:https://www.librairesdusud.com
X-WR-CALDESC:Évènements pour LIBRAIRES DU SUD
BEGIN:VTIMEZONE
TZID:Europe/Paris
BEGIN:DAYLIGHT
TZOFFSETFROM:+0100
TZOFFSETTO:+0200
TZNAME:CEST
DTSTART:20260329T010000
END:DAYLIGHT
BEGIN:STANDARD
TZOFFSETFROM:+0200
TZOFFSETTO:+0100
TZNAME:CET
DTSTART:20261025T010000
END:STANDARD
END:VTIMEZONE
BEGIN:VEVENT
DTSTART;TZID=Europe/Paris:20260305T180000
DTEND;TZID=Europe/Paris:20260305T180000
DTSTAMP:20260419T154128
CREATED:20260304T104522Z
LAST-MODIFIED:20260304T104522Z
UID:17087-1772733600-1772733600@www.librairesdusud.com
SUMMARY:Philippe Manevy - La montagne ardente
DESCRIPTION:Le lauréat du prix Roman France Télévisions 2025 nous invite à une nouvelle traversée du vingtième siècle\, sur les traces cette fois-ci de notre ruralité.\nDepuis des générations\, les Manevy sont installés au pied du Lizieux\, un volcan auvergnat éteint et usé par le temps. Ils ont traversé le vingtième siècle au rythme de ses petites victoires et de ses grandes désillusions\, un siècle de guerres et de progrès qui ont modifié notre rapport au monde et à la nature.\nCette famille ordinaire contient des destins extraordinaires. Parmi eux Joseph\, le grand-père que le narrateur n’a pourtant jamais connu : un funambule\, qui marche sur les mains et vit toujours entre deux mondes. Jeanne\, devenue sa femme après qu’ils se sont rencontrés sur le tard ; Victor\, le grand-oncle curé qui aurait inspiré Albert Camus quand il écrivait La Peste… C’est tout un monde de labeur\, de tendresse et de poésie que l’auteur exhume sous nos yeux.\nLa colline qui travaille et\nLa montagne ardente auraient dû être un seul et même texte. Philippe Manevy a finalement choisi de leur donner une existence distincte. Après avoir suivi le fil de sa lignée maternelle\, il aborde ici le versant paternel de son histoire. Avec élégance et agilité il va et vient entre deux mondes\, l’ancien et le nouveau\, la campagne et la ville\, et cherche\, comme le travailleur de la terre\, à les faire pousser dans un même jardin.
URL:https://www.librairesdusud.com/rencontre/philippe-manevy-la-montagne-ardente/
LOCATION:Librairie Maupetit\, 142 La Canebière\, Marseille\, Provence-Alpes-Côte d'Azur\, 13001\, France
CATEGORIES:Dans les Librairies,Librairie Maupetit
ATTACH;FMTTYPE=image/jpeg:https://www.librairesdusud.com/wp-content/uploads/2026/03/190788_Manevy-e1772621092488.jpg
END:VEVENT
END:VCALENDAR