BEGIN:VCALENDAR
VERSION:2.0
PRODID:-//LIBRAIRES DU SUD - ECPv5.16.4//NONSGML v1.0//EN
CALSCALE:GREGORIAN
METHOD:PUBLISH
X-WR-CALNAME:LIBRAIRES DU SUD
X-ORIGINAL-URL:https://www.librairesdusud.com
X-WR-CALDESC:Évènements pour LIBRAIRES DU SUD
BEGIN:VTIMEZONE
TZID:Europe/Paris
BEGIN:DAYLIGHT
TZOFFSETFROM:+0100
TZOFFSETTO:+0200
TZNAME:CEST
DTSTART:20230326T010000
END:DAYLIGHT
BEGIN:STANDARD
TZOFFSETFROM:+0200
TZOFFSETTO:+0100
TZNAME:CET
DTSTART:20231029T010000
END:STANDARD
END:VTIMEZONE
BEGIN:VEVENT
DTSTART;TZID=Europe/Paris:20230221T190000
DTEND;TZID=Europe/Paris:20230221T190000
DTSTAMP:20260421T105820
CREATED:20230215T084447Z
LAST-MODIFIED:20230215T084447Z
UID:12437-1677006000-1677006000@www.librairesdusud.com
SUMMARY:Renconre avec Guillaume Kosmicki
DESCRIPTION:Mardi 21 février à 19h.\n\nConférence de Guillaume Kosmicki\npour la sortie de son livre « COMPOSITRICES » l’histoire oubliée de la musique aux éditions Le mot et le reste.\n\n\n\n*Guillaume Kosmicki est musicologue\, enseignant-conférencier et journaliste musical. Spécialiste des musiques électroniques et contemporaines\, il est également l’auteur des ouvrages Free Party\, Musiques électroniques\, et des trois tomes des Musiques savantes.\n\n\n\n*Les compositrices sont les grandes oubliées de l’histoire de la musique. Le vide béant que l’on constate à leur sujet dans les ouvrages de référence\, encyclopédie et dictionnaires\, est effarant. Cette mise à l’écart systématique de tout un panel d’artistes sur tant de siècles interroge et suscite l’incompréhension\, la colère et la révolte. Reprenant les codes des livres susmentionnés\, l’auteur porte une attention particulière à l’évolution du statut des femmes\, leur liberté de composer ou pratiquer la musique\, la reconnaissance sociale dont elles peuvent bénéficier en tant que compositrices\, et enrichit ainsi le propos habituellement adopté. Cet ouvrage foisonnant éclaircit les zones d’ombres et revient\, de l’Antiquité à nos jours\, sur les conditions de création et de réception de l’œuvre de près de soixante-dix compositrices qui font\, tout autant que leurs confrères\, l’histoire de la musique.
URL:https://www.librairesdusud.com/rencontre/renconre-avec-guillaume-kosmicki/
LOCATION:Librairie Regain\, Place de la Libération\, Reillanne\, 04110
CATEGORIES:Dans les Librairies,Librairie Regain
ATTACH;FMTTYPE=image/jpeg:https://www.librairesdusud.com/wp-content/uploads/2023/02/9782384310227_1_75.jpg
END:VEVENT
END:VCALENDAR