BEGIN:VCALENDAR
VERSION:2.0
PRODID:-//LIBRAIRES DU SUD - ECPv5.16.4//NONSGML v1.0//EN
CALSCALE:GREGORIAN
METHOD:PUBLISH
X-WR-CALNAME:LIBRAIRES DU SUD
X-ORIGINAL-URL:https://www.librairesdusud.com
X-WR-CALDESC:Évènements pour LIBRAIRES DU SUD
BEGIN:VTIMEZONE
TZID:Europe/Paris
BEGIN:DAYLIGHT
TZOFFSETFROM:+0100
TZOFFSETTO:+0200
TZNAME:CEST
DTSTART:20240331T010000
END:DAYLIGHT
BEGIN:STANDARD
TZOFFSETFROM:+0200
TZOFFSETTO:+0100
TZNAME:CET
DTSTART:20241027T010000
END:STANDARD
END:VTIMEZONE
BEGIN:VEVENT
DTSTART;TZID=Europe/Paris:20240510T190000
DTEND;TZID=Europe/Paris:20240510T190000
DTSTAMP:20260421T104208
CREATED:20240507T141108Z
LAST-MODIFIED:20240507T141108Z
UID:14571-1715367600-1715367600@www.librairesdusud.com
SUMMARY:Rencontre avec Aurélie Garand
DESCRIPTION:Mort d’un voyageur \nRencontre avec Aurélie Garand autour de son livre Depuis qu’ils nous ont fait ça\, paru aux Éditions du bout de la ville. \nLa communauté des Voyageurs est depuis toujours la cible d’un racisme systémique fait de mépris\, de crainte\, d’exclusion et de brutalité. Le 30 mars 2017\, Angelo Garand est abattu de cinq balles par le GIGN chez ses parents. Son crime : il n’était pas rentré d’une permission de sortie à la prison de Poitiers où il purgeait une courte peine. Cinq ans après\, malgré le combat acharné de sa sœur Aurélie\, tous les recours sont épuisés. Ceux qui ont tué son frère ne seront jamais inquiétés. Dans ce livre\, elle nous adresse une douleur et une colère qui ne peuvent trouver de repos tant que la vérité ne sera pas entendue : l’exécution d’Angelo est l’aboutissement d’un long processus de déshumanisation.
URL:https://www.librairesdusud.com/rencontre/rencontre-avec-aurelie-garand/
LOCATION:Librairie L’Hydre aux Milles Têtes\, 96 rue Saint-Savournin\, Marseille\, 13001\, France
CATEGORIES:Dans les Librairies,Librairie L'Hydre aux mille Têtes
ATTACH;FMTTYPE=image/jpeg:https://www.librairesdusud.com/wp-content/uploads/2024/05/unnamed-e1715091034980.jpg
END:VEVENT
END:VCALENDAR