BEGIN:VCALENDAR
VERSION:2.0
PRODID:-//LIBRAIRES DU SUD - ECPv5.16.4//NONSGML v1.0//EN
CALSCALE:GREGORIAN
METHOD:PUBLISH
X-WR-CALNAME:LIBRAIRES DU SUD
X-ORIGINAL-URL:https://www.librairesdusud.com
X-WR-CALDESC:Évènements pour LIBRAIRES DU SUD
BEGIN:VTIMEZONE
TZID:Europe/Paris
BEGIN:DAYLIGHT
TZOFFSETFROM:+0100
TZOFFSETTO:+0200
TZNAME:CEST
DTSTART:20230326T010000
END:DAYLIGHT
BEGIN:STANDARD
TZOFFSETFROM:+0200
TZOFFSETTO:+0100
TZNAME:CET
DTSTART:20231029T010000
END:STANDARD
END:VTIMEZONE
BEGIN:VEVENT
DTSTART;TZID=Europe/Paris:20230206T080000
DTEND;TZID=Europe/Paris:20230206T170000
DTSTAMP:20260421T105033
CREATED:20230206T154522Z
LAST-MODIFIED:20230206T154522Z
UID:12348-1675670400-1675702800@www.librairesdusud.com
SUMMARY:Rencontre avec Souleymane Diamanka au théâtre de l'Œuvre
DESCRIPTION:Mercredi 29 mars à 20h30\n\nNous sommes fiers d’accueillir Souleymane Diamanka\, poète des temps modernes\, au Théâtre de l’Œuvre prochainement :\n\n\nle mercredi 29/03 pour un spectacle en soirée\, ou plutôt un voyage\, autour de textes poétiques et métaphoriques déclamés sur scène par cet (é)veilleur de mots.\n\n\nA l’issue de son spectacle\, Souleymane Diamanka rencontrera le public pour un temps d’échange autour de son nouveau livre.\n\nCette séance de signature\, organisée en partenariat avec la Maupetit Libraire\, vous permettra de repartir avec votre exemplaire dédicacé \n\n\n\nOn vous attend nombreux.ses. !
URL:https://www.librairesdusud.com/rencontre/rencontre-avec-souleymane-diamanka-au-theatre-de-loeuvre/
LOCATION:théâtre de l’Oeuvre\, 1 Rue Mission de France\, Marseille\, 13001\, France
CATEGORIES:Librairie Maupetit,Partenaires
ATTACH;FMTTYPE=image/jpeg:https://www.librairesdusud.com/wp-content/uploads/2023/02/329113610_590451136322823_1740467845773720638_n-e1675698156624.jpg
END:VEVENT
END:VCALENDAR