BEGIN:VCALENDAR
VERSION:2.0
PRODID:-//LIBRAIRES DU SUD - ECPv5.16.4//NONSGML v1.0//EN
CALSCALE:GREGORIAN
METHOD:PUBLISH
X-WR-CALNAME:LIBRAIRES DU SUD
X-ORIGINAL-URL:https://www.librairesdusud.com
X-WR-CALDESC:Évènements pour LIBRAIRES DU SUD
BEGIN:VTIMEZONE
TZID:Europe/Paris
BEGIN:DAYLIGHT
TZOFFSETFROM:+0100
TZOFFSETTO:+0200
TZNAME:CEST
DTSTART:20200329T010000
END:DAYLIGHT
BEGIN:STANDARD
TZOFFSETFROM:+0200
TZOFFSETTO:+0100
TZNAME:CET
DTSTART:20201025T010000
END:STANDARD
END:VTIMEZONE
BEGIN:VEVENT
DTSTART;TZID=Europe/Paris:20200307T110000
DTEND;TZID=Europe/Paris:20200307T140000
DTSTAMP:20260421T105820
CREATED:20200128T124924Z
LAST-MODIFIED:20200128T124924Z
UID:7644-1583578800-1583589600@www.librairesdusud.com
SUMMARY:Rencontre avec Viviane Huys
DESCRIPTION:Hector est un petit garçon qui aime aller au parc\, va à l’école et adore jouer comme les autres enfants. Enfin\, pas tout à fait cependant… Il va faire une rencontre importante lorsque sa route va croiser celle de Martin. Mais cela ne sera pas si facile car Hector a quelques habitudes et des besoins particuliers qui risquent fort de surprendre Martin! Parviendront-ils à devenir malgré tout amis ? \nL’auteure Viviane Huys\, sera chez Maupetit en dédicace le samedi 7 mars prochain à 11h! On vous attend!
URL:https://www.librairesdusud.com/rencontre/rencontre-avec-viviane-huys/
CATEGORIES:Dans les Librairies,Librairie Maupetit
ATTACH;FMTTYPE=image/jpeg:https://www.librairesdusud.com/wp-content/uploads/2020/01/hier-e1580215687475.jpg
END:VEVENT
END:VCALENDAR