BEGIN:VCALENDAR
VERSION:2.0
PRODID:-//LIBRAIRES DU SUD - ECPv5.16.4//NONSGML v1.0//EN
CALSCALE:GREGORIAN
METHOD:PUBLISH
X-WR-CALNAME:LIBRAIRES DU SUD
X-ORIGINAL-URL:https://www.librairesdusud.com
X-WR-CALDESC:Évènements pour LIBRAIRES DU SUD
BEGIN:VTIMEZONE
TZID:Europe/Paris
BEGIN:DAYLIGHT
TZOFFSETFROM:+0100
TZOFFSETTO:+0200
TZNAME:CEST
DTSTART:20220327T010000
END:DAYLIGHT
BEGIN:STANDARD
TZOFFSETFROM:+0200
TZOFFSETTO:+0100
TZNAME:CET
DTSTART:20221030T010000
END:STANDARD
END:VTIMEZONE
BEGIN:VEVENT
DTSTART;TZID=Europe/Paris:20220611T143000
DTEND;TZID=Europe/Paris:20220611T143000
DTSTAMP:20260423T082927
CREATED:20220520T092836Z
LAST-MODIFIED:20220520T092836Z
UID:10395-1654957800-1654957800@www.librairesdusud.com
SUMMARY:Atelier avec Lucia Calfapietra\, éditions l’Initiale
DESCRIPTION:D’origine italienne\, Lucia Calfapietra\, installée a Marseille\, est illustratrice pour l’édition\, la presse et le packaging. Son travail structuré\, doux et chaleureux se prête a merveille a l’album. \nAux édition l’Initiale\, elle a publié l’album Liberté où es-tu ?\nMais où peut-bien être la liberté ? Dans les océans ? Les déserts ? La savane ? Les montagnes ? Elle est partout où on la cherche et dans bien d’autres lieux encore… Voir la vidéo de présentation ici. Venez découvrir l’univers et la technique de Lucia Calfapietra. \nUne maison d’édition Jeunesse Philo et Citoyenneté\, l’Initiale est une maison d’édition jeunesse indépendante\, créée en 2008\, située à Marseille.\nL’enfance est le temps des grandes questions. L’origine de la vie\, la mort\, trouvent là leurs premiers échos\, souvent liés à l’émotion : la peine\, la peur\, l’amour… C’est pour dénouer ces fils avec délicatesse\, que l’Initiale publie des livres destinés à un jeune public.\nTrois collections à découvrir en librairie : L’Utile\, L’Agréable\, Philo & Citoyenneté.\nLes éditions l’Initiale\, le site. Les éditions l’Initiale\, Facebook. \nLes éditions l’Initiale se baladent chez nos libraires: L’eau vive à Avignon\, Caractères Libres à Aups\, Actes Sud à Arles\, Vauban à Marseille \nLes libraires et les éditeurs de la région sud\, solidaires.\nDans le cadre de l’événement On lirait le Sud\, 47 libraires et 24 éditeurs vous dévoilent la diversité des éditeurs et la dynamique des acteurs du livre de la région Sud Provence-Alpes-Côte d’Azur. Du 8 mai au 30 juin\, une sélection de son choix parmi les nombreuses maisons d’édition de la région Sud Provence-Alpes-Côte d’Azur. Des animations et événements divers seront également proposés au public afin de lui faire découvrir toute la diversité de ces maisons d’édition locales. \nRendez-vous en librairie pour découvrir les éditeurs\, les auteurs\, les illustrateurs de la Région Sud pour des ateliers\, des rencontres et des dédicaces! \n \nLucia Calfapietra
URL:https://www.librairesdusud.com/rencontre/rencontre-avec-yann-made-editions-alifbata-2-2-2-2-3-2-2-2-2/
CATEGORIES:Dans les Librairies,Librairie L'Eau vive,Partenaires,Rencontre,Jeunesse,Ateliers
ATTACH;FMTTYPE=image/png:https://www.librairesdusud.com/wp-content/uploads/2022/05/LUCIA-CALFAPIETRA-e1653035820255.png
END:VEVENT
END:VCALENDAR