BEGIN:VCALENDAR
VERSION:2.0
PRODID:-//LIBRAIRES DU SUD - ECPv5.16.4//NONSGML v1.0//EN
CALSCALE:GREGORIAN
METHOD:PUBLISH
X-WR-CALNAME:LIBRAIRES DU SUD
X-ORIGINAL-URL:https://www.librairesdusud.com
X-WR-CALDESC:Évènements pour LIBRAIRES DU SUD
BEGIN:VTIMEZONE
TZID:Europe/Paris
BEGIN:DAYLIGHT
TZOFFSETFROM:+0100
TZOFFSETTO:+0200
TZNAME:CEST
DTSTART:20240331T010000
END:DAYLIGHT
BEGIN:STANDARD
TZOFFSETFROM:+0200
TZOFFSETTO:+0100
TZNAME:CET
DTSTART:20241027T010000
END:STANDARD
END:VTIMEZONE
BEGIN:VEVENT
DTSTART;TZID=Europe/Paris:20240422T080000
DTEND;TZID=Europe/Paris:20240426T170000
DTSTAMP:20260422T183921
CREATED:20240408T134736Z
LAST-MODIFIED:20240408T134736Z
UID:14349-1713772800-1714150800@www.librairesdusud.com
SUMMARY:Stages enfants et ados
DESCRIPTION:Pour ces vacances de printemps\, on innove avec 2 stages : \n– Pour les 6 – 10 ans : on garde le traditionnel stage combo AMO poterie – Mazette\nLe principe\, vous le connaissez : le matin\, atelier poterie\, pique-nique à l’atelier\, puis 1 heure de lecture d’un roman par les libraires et atelier création d’un livre. Ca démarre chez AMO Poterie à 10h\, relâche chez Mazette à 16h. On développe sa créativité\, on fabrique\, on lit\, on écoute\, on collabore\, tout ça dans une joyeuse ambiance. Le thème de cette session : L’EAU. \nSemaine du 22 au 26 avril\nMazette : 100€ – AMO : 150€\nInscriptions :\nMazette : directement à la librairie\nAmo Poterie : Stages enfants – Amopoterie \n– Pour les 10 – 16 ans : on propose un NOUVEAU STAGE BD\nDe la préparation d’un storyboard à la création des planches\, les fans de BD pourront laisser parler leur créativité.\nDe 10h à 12h au tarif de 125€ la semaine\nInscription obligatoire avant le 10 avril à la librairie
URL:https://www.librairesdusud.com/rencontre/stages-enfants-et-ados/
LOCATION:Librairie Mazette\, 69 boulevard Vauban\, Marseille\, France\, 13006\, France
CATEGORIES:Dans les Librairies,Librairie Mazette
ATTACH;FMTTYPE=image/jpeg:https://www.librairesdusud.com/wp-content/uploads/2024/04/unnamed-scaled-e1712584018953.jpg
END:VEVENT
END:VCALENDAR