BEGIN:VCALENDAR
VERSION:2.0
PRODID:-//LIBRAIRES DU SUD - ECPv5.16.4//NONSGML v1.0//EN
CALSCALE:GREGORIAN
METHOD:PUBLISH
X-WR-CALNAME:LIBRAIRES DU SUD
X-ORIGINAL-URL:https://www.librairesdusud.com
X-WR-CALDESC:Évènements pour LIBRAIRES DU SUD
BEGIN:VTIMEZONE
TZID:Europe/Paris
BEGIN:DAYLIGHT
TZOFFSETFROM:+0100
TZOFFSETTO:+0200
TZNAME:CEST
DTSTART:20200329T010000
END:DAYLIGHT
BEGIN:STANDARD
TZOFFSETFROM:+0200
TZOFFSETTO:+0100
TZNAME:CET
DTSTART:20201025T010000
END:STANDARD
END:VTIMEZONE
BEGIN:VEVENT
DTSTART;TZID=Europe/Paris:20200120T183000
DTEND;TZID=Europe/Paris:20200120T203000
DTSTAMP:20260419T140743
CREATED:20191219T133502Z
LAST-MODIFIED:20191219T133502Z
UID:7490-1579545000-1579552200@www.librairesdusud.com
SUMMARY:Un atelier d'écriture avec Esther Salmona
DESCRIPTION:Dans la continuité de notre nouvelle proposition. Celle de laisser libre cours à vos imaginations\, à vos inspirations et vos envies d’écrire\, accompagnés en cela par des autrices et auteurs à qui nous faisons la proposition de vous emmener sur les chemins de l’écrit en passant par leurs expériences\, leurs idées\, leurs façons de dire. \nLe second cycle de cette nouvelle proposition sera animé par Esther Salmona. Il est intitulé « Forfaire à la langue » et voici comment elle le présente : \nPartir du sens de « forfaire »\, commettre une faute grave\, qui se frotterait aux deux mots contenus dedans : « for » / pour en anglais et « faire » au sens de l’agir (Deligny). \nPour faire donc : l’idée est de tordre\, déplacer quelque chose à chaque séance : faire avec\, faire sans\, faire nuit\, faire long feu\, faire silence\, faire queer\, faire faire\, faire autre chose. \nPoétesse au verbe délicat\, artiste sensible aux notions de son\, d’espace et de temps\, Esther Salmona a écrit « Amenées »\, paru chez Éric Pesty Éditeur.\n_______________\nSur réservation\, nombre de places limité / 4 séances / chaque séance dure 2h / 15 euros par séance
URL:https://www.librairesdusud.com/rencontre/un-atelier-decriture-avec-esther-salmona/
LOCATION:Librairie La Carline\, 13 boulevard des Martyrs\, Forcalquier\, 04300
CATEGORIES:Dans les Librairies,Librairie La Carline
ATTACH;FMTTYPE=image/jpeg:https://www.librairesdusud.com/wp-content/uploads/2019/12/salmona.jpg
END:VEVENT
END:VCALENDAR