BEGIN:VCALENDAR
VERSION:2.0
PRODID:-//LIBRAIRES DU SUD - ECPv5.16.4//NONSGML v1.0//EN
CALSCALE:GREGORIAN
METHOD:PUBLISH
X-WR-CALNAME:LIBRAIRES DU SUD
X-ORIGINAL-URL:https://www.librairesdusud.com
X-WR-CALDESC:Évènements pour LIBRAIRES DU SUD
BEGIN:VTIMEZONE
TZID:Europe/Paris
BEGIN:DAYLIGHT
TZOFFSETFROM:+0100
TZOFFSETTO:+0200
TZNAME:CEST
DTSTART:20250330T010000
END:DAYLIGHT
BEGIN:STANDARD
TZOFFSETFROM:+0200
TZOFFSETTO:+0100
TZNAME:CET
DTSTART:20251026T010000
END:STANDARD
END:VTIMEZONE
BEGIN:VEVENT
DTSTART;TZID=Europe/Paris:20250130T190000
DTEND;TZID=Europe/Paris:20250130T190000
DTSTAMP:20260422T184826
CREATED:20250121T091628Z
LAST-MODIFIED:20250121T091628Z
UID:15309-1738263600-1738263600@www.librairesdusud.com
SUMMARY:Rencontre avec Laure Samama
DESCRIPTION:Rencontre avec Laure Samama autour de son livre Les cavités\, paru aux éditions Isabelle Sauvage. \nUn long poème alternant vers et prose\, convoquant les figures du conte pour dénoncer les diktats de la société et la difficile émancipation des êtres. Dans un premier temps\, Les cavités pourrait se lire et se définir comme un conte cruel\, avec sa kyrielle de personnages inquiétants. Mais la langue de Laure Samama retourne les codes. Un cheminement sombre dans ce qui infuse de l’enfance dans une vie d’adulte pour\, enfin\, s’affirmer.
URL:https://www.librairesdusud.com/rencontre/rencontre-avec-laure-samama/
LOCATION:Librairie L’Hydre aux Milles Têtes\, 96 rue Saint-Savournin\, Marseille\, 13001\, France
CATEGORIES:Dans les Librairies,Librairie L'Hydre aux mille Têtes
END:VEVENT
END:VCALENDAR