BEGIN:VCALENDAR
VERSION:2.0
PRODID:-//LIBRAIRES DU SUD - ECPv5.16.4//NONSGML v1.0//EN
CALSCALE:GREGORIAN
METHOD:PUBLISH
X-WR-CALNAME:LIBRAIRES DU SUD
X-ORIGINAL-URL:https://www.librairesdusud.com
X-WR-CALDESC:Évènements pour LIBRAIRES DU SUD
BEGIN:VTIMEZONE
TZID:Europe/Paris
BEGIN:DAYLIGHT
TZOFFSETFROM:+0100
TZOFFSETTO:+0200
TZNAME:CEST
DTSTART:20250330T010000
END:DAYLIGHT
BEGIN:STANDARD
TZOFFSETFROM:+0200
TZOFFSETTO:+0100
TZNAME:CET
DTSTART:20251026T010000
END:STANDARD
END:VTIMEZONE
BEGIN:VEVENT
DTSTART;TZID=Europe/Paris:20250207T190000
DTEND;TZID=Europe/Paris:20250207T190000
DTSTAMP:20260420T042824
CREATED:20250128T110619Z
LAST-MODIFIED:20250204T161936Z
UID:15337-1738954800-1738954800@www.librairesdusud.com
SUMMARY:Rencontre avec Sabine Guez
DESCRIPTION:TRAFIC \nRencontre avec Sabine Guez autour de son livre L’histoire de Diana : trafic de drogue et politique dans le Nord mexicain\, paru aux éditions Anacharsis. \nAu Mexique\, la violence liée au trafic de drogue a pris des proportions effarantes. La ville de Ciudad Juárez\, accolée à El Paso de l’autre côté de la frontière au Texas\, est l’un des épicentres de ce phénomène. Diana\, une femme au caractère frondeur issue de la bonne société mexicaine\, a épousé dans sa jeunesse l’un des patrons du « Cartel de Juárez »\, Gilberto Ontiveros\, dit El Greñas – finalement condamné à 17 ans de prison. Sabine Guez relate ici sa rencontre avec Diana et construit une enquête profonde où se mêlent l’ordinaire du trafic de drogue et les ancrages directement politiques de celui-ci. Une lumière crue jetée sur l’un des aspects les plus opaques de notre temps.
URL:https://www.librairesdusud.com/rencontre/rencontre-avec-sabine-guez/
LOCATION:Librairie L’Hydre aux Milles Têtes\, 96 rue Saint-Savournin\, Marseille\, 13001\, France
CATEGORIES:Dans les Librairies,Librairie L'Hydre aux mille Têtes
ATTACH;FMTTYPE=image/jpeg:https://www.librairesdusud.com/wp-content/uploads/2025/01/9791027904747_1_75.jpeg
END:VEVENT
END:VCALENDAR