BEGIN:VCALENDAR
VERSION:2.0
PRODID:-//LIBRAIRES DU SUD - ECPv5.16.4//NONSGML v1.0//EN
CALSCALE:GREGORIAN
METHOD:PUBLISH
X-WR-CALNAME:LIBRAIRES DU SUD
X-ORIGINAL-URL:https://www.librairesdusud.com
X-WR-CALDESC:Évènements pour LIBRAIRES DU SUD
BEGIN:VTIMEZONE
TZID:Europe/Paris
BEGIN:DAYLIGHT
TZOFFSETFROM:+0100
TZOFFSETTO:+0200
TZNAME:CEST
DTSTART:20250330T010000
END:DAYLIGHT
BEGIN:STANDARD
TZOFFSETFROM:+0200
TZOFFSETTO:+0100
TZNAME:CET
DTSTART:20251026T010000
END:STANDARD
END:VTIMEZONE
BEGIN:VEVENT
DTSTART;TZID=Europe/Paris:20250214T190000
DTEND;TZID=Europe/Paris:20250214T190000
DTSTAMP:20260419T162302
CREATED:20250212T102124Z
LAST-MODIFIED:20250212T102124Z
UID:15455-1739559600-1739559600@www.librairesdusud.com
SUMMARY:Vernissage de l’exposition Mays Paysages\, en présence de Lénaïg Carriou et Neitah Janzing
DESCRIPTION:A MAINS NUES \nVernissage de l’exposition Mays Paysages\, en présence de Lénaïg Carriou et Neitah Janzing. \nMains-Paysages est un projet voyageur. Il est né à Providence\, aux États-Unis\, a grandi à Paris et s’est transformé à Berlin. À l’origine\, c’est un projet poétique développé par Lénaïg Cariou dans son recueil À main levée (LansKine\, juin 2024) : une exploration du langage par le prisme des mains. La rencontre avec le travail photographique de l’artiste québécoise Neïtah Janzing à Berlin\, au printemps 2023\, en a fait un dialogue. Tirant les fils de l’érotisme des mains\, organe à la fois le plus nu et le plus exposé\, Neïtah Janzing arpente les rues de la capitale allemande pendant une année à la recherche des mains baladeuses dont les surfaces se mêlent à celles de la ville\, échangeant toujours avec ses habitant·es sur cette intimité perceptible.
URL:https://www.librairesdusud.com/rencontre/vernissage-de-lexposition-mays-paysages-en-presence-de-lenaig-carriou-et-neitah-janzing/
LOCATION:Librairie L’Hydre aux Milles Têtes\, 96 rue Saint-Savournin\, Marseille\, 13001\, France
CATEGORIES:Dans les Librairies,Librairie L'Hydre aux mille Têtes
ATTACH;FMTTYPE=image/jpeg:https://www.librairesdusud.com/wp-content/uploads/2025/02/unnamed-e1739354667884.jpg
END:VEVENT
END:VCALENDAR